BEGIN:VCALENDAR
CALSCALE:GREGORIAN
VERSION:2.0
X-WR-CALNAME:IETF Newcomers Webinar
METHOD:PUBLISH
PRODID:-//Apple Inc.//Mac OS X 10.13.3//EN
BEGIN:VEVENT
CREATED:20180308T135847Z
UID:129A9A83-3DE2-4AAE-8EB2-F9F24733BE6E
DTEND:20180313T160000Z
TRANSP:OPAQUE
X-APPLE-TRAVEL-ADVISORY-BEHAVIOR:AUTOMATIC
SUMMARY:IETF Newcomers Webinar
DTSTART:20180313T150000Z
DTSTAMP:20180308T141613Z
LOCATION:https://ietf101.conf.meetecho.com/index.php/Newcomers_webinar
SEQUENCE:0
BEGIN:VALARM
X-WR-ALARMUID:F325ED24-049D-463E-A8FD-43EFFAE9AF83
UID:F325ED24-049D-463E-A8FD-43EFFAE9AF83
TRIGGER:-PT15S
X-APPLE-DEFAULT-ALARM:TRUE
ATTACH;VALUE=URI:Basso
ACTION:AUDIO
END:VALARM
END:VEVENT
END:VCALENDAR
